BEGIN:VCALENDAR
VERSION:2.0
CALSCALE:GREGORIAN
METHOD:PUBLISH
X-WR-TIMEZONE:Australia/Sydney
BEGIN:VTIMEZONE
TZID:Australia/Sydney
BEGIN:STANDARD
TZNAME:AEST
END:STANDARD
END:VTIMEZONE
BEGIN:VEVENT
DTSTART;TZID=Australia/Sydney:20260402T085000
DTEND;TZID=Australia/Sydney:20260402T142000
DTSTAMP:20260425T021332
UID:113
SUMMARY:House Aths Carnival
DESCRIPTION:




Drop off and pick up for the day, (including all buses) will be at the Memorial Oval, Slee St, Euroa.


SEQUENCE:0
STATUS:CONFIRMED
TRANSP:OPAQUE
END:VEVENT
END:VCALENDAR